BEGIN:VCALENDAR
VERSION:2.0
PRODID:-//Wilbur&#039;s of Maine - ECPv6.15.20//NONSGML v1.0//EN
CALSCALE:GREGORIAN
METHOD:PUBLISH
X-WR-CALNAME:Wilbur&#039;s of Maine
X-ORIGINAL-URL:https://www.wilburs.com
X-WR-CALDESC:Events for Wilbur&#039;s of Maine
REFRESH-INTERVAL;VALUE=DURATION:PT1H
X-Robots-Tag:noindex
X-PUBLISHED-TTL:PT1H
BEGIN:VTIMEZONE
TZID:America/New_York
BEGIN:DAYLIGHT
TZOFFSETFROM:-0500
TZOFFSETTO:-0400
TZNAME:EDT
DTSTART:20240310T070000
END:DAYLIGHT
BEGIN:STANDARD
TZOFFSETFROM:-0400
TZOFFSETTO:-0500
TZNAME:EST
DTSTART:20241103T060000
END:STANDARD
BEGIN:DAYLIGHT
TZOFFSETFROM:-0500
TZOFFSETTO:-0400
TZNAME:EDT
DTSTART:20250309T070000
END:DAYLIGHT
BEGIN:STANDARD
TZOFFSETFROM:-0400
TZOFFSETTO:-0500
TZNAME:EST
DTSTART:20251102T060000
END:STANDARD
BEGIN:DAYLIGHT
TZOFFSETFROM:-0500
TZOFFSETTO:-0400
TZNAME:EDT
DTSTART:20260308T070000
END:DAYLIGHT
BEGIN:STANDARD
TZOFFSETFROM:-0400
TZOFFSETTO:-0500
TZNAME:EST
DTSTART:20261101T060000
END:STANDARD
BEGIN:DAYLIGHT
TZOFFSETFROM:-0500
TZOFFSETTO:-0400
TZNAME:EDT
DTSTART:20270314T070000
END:DAYLIGHT
BEGIN:STANDARD
TZOFFSETFROM:-0400
TZOFFSETTO:-0500
TZNAME:EST
DTSTART:20271107T060000
END:STANDARD
END:VTIMEZONE
BEGIN:VEVENT
DTSTART;TZID=America/New_York:20260307T100000
DTEND;TZID=America/New_York:20260307T160000
DTSTAMP:20260423T081616
CREATED:20260217T144742Z
LAST-MODIFIED:20260217T144742Z
UID:10001001-1772877600-1772899200@www.wilburs.com
SUMMARY:Freeport Chocolate Festival Sponsored by Greater Freeport Chamber of Commerce
DESCRIPTION:Warm up your winter with a chocolate tour of Freeport\, Maine! \nPlease purchase a ticket for 5th annual Freeport Chocolate Festival to join Wilbur’s of Maine and 11 other chocolatiers for a day of chocolate in Freeport! Check-in on March 7th will be at the Freeport Chamber Office\, including time slots for ticket holders to create a chocolate medallion with decadent toppings at our chocolate factory. Many downtown Freeport businesses will be hosting pop-up chocolatier shops with samples. \nYou can purchase tickets here https://www.eventbrite.com/e/freeport-chocolate-festival-2026-registration-1963320836473 
URL:https://www.wilburs.com/event/freeport-chocolate-festival-sponsored-by-greater-freeport-chamber-of-commerce-2/
LOCATION:Freeport Chamber of Commerce\, 42 Main Street\, Freeport\, Maine\, 04032
ATTACH;FMTTYPE=image/png:/wp-content/uploads/2026/02/Chocolate-Festival-2026.png
END:VEVENT
BEGIN:VEVENT
DTSTART;TZID=America/New_York:20250308T090000
DTEND;TZID=America/New_York:20250308T170000
DTSTAMP:20260423T081616
CREATED:20250226T142558Z
LAST-MODIFIED:20250306T164937Z
UID:10000808-1741424400-1741453200@www.wilburs.com
SUMMARY:Freeport Chocolate Festival
DESCRIPTION:Please purchase a ticket for 4th annual Freeport Chocolate Festival to join Wilbur’s of Maine and 12 other chocolatiers for a day of chocolate in Freeport! Check-in on March 8th will be at the Freeport Chamber Office\, including time slots for ticket holders to create a chocolate medallion with decadent toppings at our chocolate factory. Many downtown Freeport businesses will be hosting pop-up chocolatier shops with samples. \nYou can purchase tickets here; https://www.freeportmainechamber.com/chocolatefestival.html
URL:https://www.wilburs.com/event/freeport-chocolate-festival/
LOCATION:Freeport Chamber of Commerce\, 42 Main Street\, Freeport\, Maine\, 04032
ATTACH;FMTTYPE=image/png:/wp-content/uploads/2025/02/Chocolate-Festival-web.png
END:VEVENT
END:VCALENDAR