BEGIN:VCALENDAR
VERSION:2.0
PRODID:-//Wilbur&#039;s of Maine - ECPv6.15.20//NONSGML v1.0//EN
CALSCALE:GREGORIAN
METHOD:PUBLISH
X-WR-CALNAME:Wilbur&#039;s of Maine
X-ORIGINAL-URL:https://www.wilburs.com
X-WR-CALDESC:Events for Wilbur&#039;s of Maine
REFRESH-INTERVAL;VALUE=DURATION:PT1H
X-Robots-Tag:noindex
X-PUBLISHED-TTL:PT1H
BEGIN:VTIMEZONE
TZID:America/New_York
BEGIN:DAYLIGHT
TZOFFSETFROM:-0500
TZOFFSETTO:-0400
TZNAME:EDT
DTSTART:20250309T070000
END:DAYLIGHT
BEGIN:STANDARD
TZOFFSETFROM:-0400
TZOFFSETTO:-0500
TZNAME:EST
DTSTART:20251102T060000
END:STANDARD
BEGIN:DAYLIGHT
TZOFFSETFROM:-0500
TZOFFSETTO:-0400
TZNAME:EDT
DTSTART:20260308T070000
END:DAYLIGHT
BEGIN:STANDARD
TZOFFSETFROM:-0400
TZOFFSETTO:-0500
TZNAME:EST
DTSTART:20261101T060000
END:STANDARD
BEGIN:DAYLIGHT
TZOFFSETFROM:-0500
TZOFFSETTO:-0400
TZNAME:EDT
DTSTART:20270314T070000
END:DAYLIGHT
BEGIN:STANDARD
TZOFFSETFROM:-0400
TZOFFSETTO:-0500
TZNAME:EST
DTSTART:20271107T060000
END:STANDARD
END:VTIMEZONE
BEGIN:VEVENT
DTSTART;TZID=America/New_York:20260502T110000
DTEND;TZID=America/New_York:20260502T140000
DTSTAMP:20260425T102029
CREATED:20260326T183909Z
LAST-MODIFIED:20260423T194807Z
UID:10001013-1777719600-1777730400@www.wilburs.com
SUMMARY:Chocolate Factory Tours
DESCRIPTION:Factory Tours!  Cost is $6 per person\, includes a video presentation\, samples and behind the scenes viewing. Stop in between 11am and 2pm\, no reservations or advanced tickets required.
URL:https://www.wilburs.com/event/chocolate-factory-tours-71/2026-05-02/
LOCATION:Wilbur’s of Maine Factory\, 174 Lower Main St\, Freeport\, ME\, 04032\, United States
ATTACH;FMTTYPE=image/png:/wp-content/uploads/2025/08/Factory-Tours-Sept.png
ORGANIZER;CN="Wilbur's of Maine":MAILTO:events@wilburs.com
END:VEVENT
BEGIN:VEVENT
DTSTART;TZID=America/New_York:20260509T110000
DTEND;TZID=America/New_York:20260509T130000
DTSTAMP:20260425T102029
CREATED:20260423T194430Z
LAST-MODIFIED:20260423T194430Z
UID:10001012-1778324400-1778331600@www.wilburs.com
SUMMARY:Flower Pops
DESCRIPTION:Select\, prepare\, and decorate a chocolate pop in the shape of a flower! A perfect gift for the special mom in your life\, or to eat for yourself! Includes a demonstration of the chocolate mold filling process. Saturday\, May 9th from 11am – 1pm. $4 per pop \nTickets can be purchased in advance here. \nThere may be walk in availability on the day of the event but pre-purchasing tickets will secure your pizza and time slot.
URL:https://www.wilburs.com/event/flower-pops/
LOCATION:Wilbur’s of Maine Factory\, 174 Lower Main St\, Freeport\, ME\, 04032\, United States
ATTACH;FMTTYPE=image/png:/wp-content/uploads/2026/04/Flower-Pops-Website.png
ORGANIZER;CN="Wilbur's of Maine":MAILTO:events@wilburs.com
END:VEVENT
BEGIN:VEVENT
DTSTART;TZID=America/New_York:20260516T110000
DTEND;TZID=America/New_York:20260516T140000
DTSTAMP:20260425T102029
CREATED:20260326T183909Z
LAST-MODIFIED:20260423T194807Z
UID:10001014-1778929200-1778940000@www.wilburs.com
SUMMARY:Chocolate Factory Tours
DESCRIPTION:Factory Tours!  Cost is $6 per person\, includes a video presentation\, samples and behind the scenes viewing. Stop in between 11am and 2pm\, no reservations or advanced tickets required.
URL:https://www.wilburs.com/event/chocolate-factory-tours-71/2026-05-16/
LOCATION:Wilbur’s of Maine Factory\, 174 Lower Main St\, Freeport\, ME\, 04032\, United States
ATTACH;FMTTYPE=image/png:/wp-content/uploads/2025/08/Factory-Tours-Sept.png
ORGANIZER;CN="Wilbur's of Maine":MAILTO:events@wilburs.com
END:VEVENT
BEGIN:VEVENT
DTSTART;TZID=America/New_York:20260523T110000
DTEND;TZID=America/New_York:20260523T140000
DTSTAMP:20260425T102029
CREATED:20260326T183909Z
LAST-MODIFIED:20260423T194807Z
UID:10001015-1779534000-1779544800@www.wilburs.com
SUMMARY:Chocolate Factory Tours
DESCRIPTION:Factory Tours!  Cost is $6 per person\, includes a video presentation\, samples and behind the scenes viewing. Stop in between 11am and 2pm\, no reservations or advanced tickets required.
URL:https://www.wilburs.com/event/chocolate-factory-tours-71/2026-05-23/
LOCATION:Wilbur’s of Maine Factory\, 174 Lower Main St\, Freeport\, ME\, 04032\, United States
ATTACH;FMTTYPE=image/png:/wp-content/uploads/2025/08/Factory-Tours-Sept.png
ORGANIZER;CN="Wilbur's of Maine":MAILTO:events@wilburs.com
END:VEVENT
BEGIN:VEVENT
DTSTART;TZID=America/New_York:20260530T110000
DTEND;TZID=America/New_York:20260530T140000
DTSTAMP:20260425T102029
CREATED:20260326T183909Z
LAST-MODIFIED:20260423T194807Z
UID:10001016-1780138800-1780149600@www.wilburs.com
SUMMARY:Chocolate Factory Tours
DESCRIPTION:Factory Tours!  Cost is $6 per person\, includes a video presentation\, samples and behind the scenes viewing. Stop in between 11am and 2pm\, no reservations or advanced tickets required.
URL:https://www.wilburs.com/event/chocolate-factory-tours-71/2026-05-30/
LOCATION:Wilbur’s of Maine Factory\, 174 Lower Main St\, Freeport\, ME\, 04032\, United States
ATTACH;FMTTYPE=image/png:/wp-content/uploads/2025/08/Factory-Tours-Sept.png
ORGANIZER;CN="Wilbur's of Maine":MAILTO:events@wilburs.com
END:VEVENT
END:VCALENDAR