BEGIN:VCALENDAR
VERSION:2.0
PRODID:-//Wilbur&#039;s of Maine - ECPv6.15.20//NONSGML v1.0//EN
CALSCALE:GREGORIAN
METHOD:PUBLISH
X-ORIGINAL-URL:https://www.wilburs.com
X-WR-CALDESC:Events for Wilbur&#039;s of Maine
REFRESH-INTERVAL;VALUE=DURATION:PT1H
X-Robots-Tag:noindex
X-PUBLISHED-TTL:PT1H
BEGIN:VTIMEZONE
TZID:America/New_York
BEGIN:DAYLIGHT
TZOFFSETFROM:-0500
TZOFFSETTO:-0400
TZNAME:EDT
DTSTART:20230312T070000
END:DAYLIGHT
BEGIN:STANDARD
TZOFFSETFROM:-0400
TZOFFSETTO:-0500
TZNAME:EST
DTSTART:20231105T060000
END:STANDARD
BEGIN:DAYLIGHT
TZOFFSETFROM:-0500
TZOFFSETTO:-0400
TZNAME:EDT
DTSTART:20240310T070000
END:DAYLIGHT
BEGIN:STANDARD
TZOFFSETFROM:-0400
TZOFFSETTO:-0500
TZNAME:EST
DTSTART:20241103T060000
END:STANDARD
BEGIN:DAYLIGHT
TZOFFSETFROM:-0500
TZOFFSETTO:-0400
TZNAME:EDT
DTSTART:20250309T070000
END:DAYLIGHT
BEGIN:STANDARD
TZOFFSETFROM:-0400
TZOFFSETTO:-0500
TZNAME:EST
DTSTART:20251102T060000
END:STANDARD
END:VTIMEZONE
BEGIN:VEVENT
DTSTART;TZID=America/New_York:20240903T110000
DTEND;TZID=America/New_York:20240903T140000
DTSTAMP:20260424T132811
CREATED:20240903T162742Z
LAST-MODIFIED:20240903T162743Z
UID:10000886-1725361200-1725372000@www.wilburs.com
SUMMARY:Chocolate Factory Tours
DESCRIPTION:Factory Tours on select Tuesdays and Saturdays in September!  Cost is $5 per person\, includes a video presentation\, samples and behind the scenes viewing. Stop in between 11am and 2pm\, no reservations or advanced tickets required.
URL:https://www.wilburs.com/event/chocolate-factory-tours-26/2024-09-03/
LOCATION:Wilbur’s of Maine Factory\, 174 Lower Main St\, Freeport\, ME\, 04032\, United States
ATTACH;FMTTYPE=image/png:/wp-content/uploads/2024/09/Web-September-Tours-.png
ORGANIZER;CN="Wilbur's of Maine":MAILTO:events@wilburs.com
END:VEVENT
BEGIN:VEVENT
DTSTART;TZID=America/New_York:20240907T110000
DTEND;TZID=America/New_York:20240907T140000
DTSTAMP:20260424T132811
CREATED:20240903T163134Z
LAST-MODIFIED:20240903T163134Z
UID:10000890-1725706800-1725717600@www.wilburs.com
SUMMARY:Chocolate Factory Tours
DESCRIPTION:Factory Tours on select Tuesdays and Saturdays in September!  Cost is $5 per person\, includes a video presentation\, samples and behind the scenes viewing. Stop in between 11am and 2pm\, no reservations or advanced tickets required.
URL:https://www.wilburs.com/event/chocolate-factory-tours-27/
LOCATION:Wilbur’s of Maine Factory\, 174 Lower Main St\, Freeport\, ME\, 04032\, United States
ATTACH;FMTTYPE=image/png:/wp-content/uploads/2024/09/Web-September-Tours-.png
ORGANIZER;CN="Wilbur's of Maine":MAILTO:events@wilburs.com
END:VEVENT
BEGIN:VEVENT
DTSTART;TZID=America/New_York:20240910T110000
DTEND;TZID=America/New_York:20240910T140000
DTSTAMP:20260424T132811
CREATED:20240903T162742Z
LAST-MODIFIED:20240903T162743Z
UID:10000887-1725966000-1725976800@www.wilburs.com
SUMMARY:Chocolate Factory Tours
DESCRIPTION:Factory Tours on select Tuesdays and Saturdays in September!  Cost is $5 per person\, includes a video presentation\, samples and behind the scenes viewing. Stop in between 11am and 2pm\, no reservations or advanced tickets required.
URL:https://www.wilburs.com/event/chocolate-factory-tours-26/2024-09-10/
LOCATION:Wilbur’s of Maine Factory\, 174 Lower Main St\, Freeport\, ME\, 04032\, United States
ATTACH;FMTTYPE=image/png:/wp-content/uploads/2024/09/Web-September-Tours-.png
ORGANIZER;CN="Wilbur's of Maine":MAILTO:events@wilburs.com
END:VEVENT
BEGIN:VEVENT
DTSTART;TZID=America/New_York:20240914T110000
DTEND;TZID=America/New_York:20240914T140000
DTSTAMP:20260424T132811
CREATED:20240903T163559Z
LAST-MODIFIED:20240903T163559Z
UID:10000892-1726311600-1726322400@www.wilburs.com
SUMMARY:DIY Caramel Apples
DESCRIPTION:Enjoy decorating an apple dipped in our homemade caramel and freshly dipped in chocolate!  Cost is $9.95 per apple plus tax.
URL:https://www.wilburs.com/event/diy-caramel-apples/
LOCATION:Wilbur’s of Maine Factory\, 174 Lower Main St\, Freeport\, ME\, 04032\, United States
ATTACH;FMTTYPE=image/png:/wp-content/uploads/2024/09/web-2024-Apples-.png
ORGANIZER;CN="Wilbur's of Maine":MAILTO:events@wilburs.com
END:VEVENT
BEGIN:VEVENT
DTSTART;TZID=America/New_York:20240917T110000
DTEND;TZID=America/New_York:20240917T140000
DTSTAMP:20260424T132811
CREATED:20240903T162742Z
LAST-MODIFIED:20240903T162743Z
UID:10000888-1726570800-1726581600@www.wilburs.com
SUMMARY:Chocolate Factory Tours
DESCRIPTION:Factory Tours on select Tuesdays and Saturdays in September!  Cost is $5 per person\, includes a video presentation\, samples and behind the scenes viewing. Stop in between 11am and 2pm\, no reservations or advanced tickets required.
URL:https://www.wilburs.com/event/chocolate-factory-tours-26/2024-09-17/
LOCATION:Wilbur’s of Maine Factory\, 174 Lower Main St\, Freeport\, ME\, 04032\, United States
ATTACH;FMTTYPE=image/png:/wp-content/uploads/2024/09/Web-September-Tours-.png
ORGANIZER;CN="Wilbur's of Maine":MAILTO:events@wilburs.com
END:VEVENT
BEGIN:VEVENT
DTSTART;TZID=America/New_York:20240919T110000
DTEND;TZID=America/New_York:20240919T120000
DTSTAMP:20260424T132811
CREATED:20240903T164759Z
LAST-MODIFIED:20240903T164759Z
UID:10000893-1726743600-1726747200@www.wilburs.com
SUMMARY:Candy Treasure Island
DESCRIPTION:Celebrate “Talk Like a Pirate Day” here at Wilbur’s of Maine and create your own edible candy treasure island\, mateys! Cost is $5 per island.  Join us at 11am or 3:30pm\, no reservations or tickets required.
URL:https://www.wilburs.com/event/candy-treasure-island/
LOCATION:Wilbur’s of Maine Factory\, 174 Lower Main St\, Freeport\, ME\, 04032\, United States
ATTACH;FMTTYPE=image/png:/wp-content/uploads/2024/09/Web-September-Pirate.png
ORGANIZER;CN="Wilbur's of Maine":MAILTO:events@wilburs.com
END:VEVENT
BEGIN:VEVENT
DTSTART;TZID=America/New_York:20240919T153000
DTEND;TZID=America/New_York:20240919T163000
DTSTAMP:20260424T132811
CREATED:20240903T164939Z
LAST-MODIFIED:20240903T164940Z
UID:10000894-1726759800-1726763400@www.wilburs.com
SUMMARY:Candy Treasure Island
DESCRIPTION:Celebrate “Talk Like a Pirate Day” here at Wilbur’s of Maine and create your own edible candy treasure island\, mateys! Cost is $5 per island.  Join us at 11am or 3:30pm\, no reservations or tickets required.
URL:https://www.wilburs.com/event/candy-treasure-island-2/
LOCATION:Wilbur’s of Maine Factory\, 174 Lower Main St\, Freeport\, ME\, 04032\, United States
ATTACH;FMTTYPE=image/png:/wp-content/uploads/2024/09/Web-September-Pirate.png
ORGANIZER;CN="Wilbur's of Maine":MAILTO:events@wilburs.com
END:VEVENT
BEGIN:VEVENT
DTSTART;TZID=America/New_York:20240921T110000
DTEND;TZID=America/New_York:20240921T140000
DTSTAMP:20260424T132811
CREATED:20240903T163251Z
LAST-MODIFIED:20240903T163251Z
UID:10000891-1726916400-1726927200@www.wilburs.com
SUMMARY:Chocolate Factory Tours
DESCRIPTION:Factory Tours on select Tuesdays and Saturdays in August!  Cost is $5 per person\, includes a video presentation\, samples and behind the scenes viewing. Stop in between 11am and 2pm\, no reservations or advanced tickets required.
URL:https://www.wilburs.com/event/chocolate-factory-tours-28/
LOCATION:Wilbur’s of Maine Factory\, 174 Lower Main St\, Freeport\, ME\, 04032\, United States
ATTACH;FMTTYPE=image/png:/wp-content/uploads/2024/09/Web-September-Tours-.png
ORGANIZER;CN="Wilbur's of Maine":MAILTO:events@wilburs.com
END:VEVENT
BEGIN:VEVENT
DTSTART;TZID=America/New_York:20240924T110000
DTEND;TZID=America/New_York:20240924T140000
DTSTAMP:20260424T132811
CREATED:20240903T162742Z
LAST-MODIFIED:20240903T162743Z
UID:10000889-1727175600-1727186400@www.wilburs.com
SUMMARY:Chocolate Factory Tours
DESCRIPTION:Factory Tours on select Tuesdays and Saturdays in September!  Cost is $5 per person\, includes a video presentation\, samples and behind the scenes viewing. Stop in between 11am and 2pm\, no reservations or advanced tickets required.
URL:https://www.wilburs.com/event/chocolate-factory-tours-26/2024-09-24/
LOCATION:Wilbur’s of Maine Factory\, 174 Lower Main St\, Freeport\, ME\, 04032\, United States
ATTACH;FMTTYPE=image/png:/wp-content/uploads/2024/09/Web-September-Tours-.png
ORGANIZER;CN="Wilbur's of Maine":MAILTO:events@wilburs.com
END:VEVENT
BEGIN:VEVENT
DTSTART;TZID=America/New_York:20240928T100000
DTEND;TZID=America/New_York:20240928T150000
DTSTAMP:20260424T132811
CREATED:20240903T170446Z
LAST-MODIFIED:20240903T171316Z
UID:10000895-1727517600-1727535600@www.wilburs.com
SUMMARY:Maine Needham Festival
DESCRIPTION:Join Wilbur’s of Maine and many other vendors at the Maine Needham Festival in Wiscasset!  This event does not require ticketing and is FREE!  For more information visit: https://www.meneedhamfest.com/. We hope to see you there!
URL:https://www.wilburs.com/event/maine-needham-festival/
LOCATION:Maine Tasting Center\, 506 Old Bath Rd\, Wiscasset\, ME\, 04578\, United States
ATTACH;FMTTYPE=image/png:/wp-content/uploads/2024/09/MENEEDHAMFEST.png
END:VEVENT
END:VCALENDAR